BEGIN:VCALENDAR
VERSION:2.0
PRODID:-//STIA SJC - ECPv6.15.13.1//NONSGML v1.0//EN
CALSCALE:GREGORIAN
METHOD:PUBLISH
X-ORIGINAL-URL:https://sindicato.stialimentacao.com.br
X-WR-CALDESC:Eventos para STIA SJC
REFRESH-INTERVAL;VALUE=DURATION:PT1H
X-Robots-Tag:noindex
X-PUBLISHED-TTL:PT1H
BEGIN:VTIMEZONE
TZID:UTC
BEGIN:STANDARD
TZOFFSETFROM:+0000
TZOFFSETTO:+0000
TZNAME:UTC
DTSTART:20220101T000000
END:STANDARD
END:VTIMEZONE
BEGIN:VEVENT
DTSTART;TZID=UTC:20240826T090000
DTEND;TZID=UTC:20240826T110000
DTSTAMP:20260423T205050
CREATED:20240815T184227Z
LAST-MODIFIED:20240815T184227Z
UID:1886-1724662800-1724670000@sindicato.stialimentacao.com.br
SUMMARY:EDITAL DE CONVOCAÇÃO DE ASSEMBLEIA ORDINARIA - DATA BASE 2024-2025 - PANIFICAÇÃO E CONFEITARIA
DESCRIPTION:
URL:https://sindicato.stialimentacao.com.br/evento/edital-de-convocacao-de-assembleia-ordinaria-data-base-2024-2025-panificacao-e-confeitaria/
LOCATION:Subsede STIA Jacareí\, Rua Três de Abril\, 64 – Jd. Leonídia\, Jacareí\, SP\, 12327-100\, Brasil
CATEGORIES:Assembléia,Data Base,Editais,PANIFICAÇÃO E CONFEITARIA
ATTACH;FMTTYPE=image/jpeg:https://sindicato.stialimentacao.com.br/wp-content/uploads/2023/09/banner-evento-e-post-1.jpg
END:VEVENT
BEGIN:VEVENT
DTSTART;TZID=UTC:20240823T103000
DTEND;TZID=UTC:20240823T120000
DTSTAMP:20260423T205050
CREATED:20240815T183825Z
LAST-MODIFIED:20240815T183848Z
UID:1884-1724409000-1724414400@sindicato.stialimentacao.com.br
SUMMARY:EDITAL DE CONVOCAÇÃO DE ASSEMBLEIA ORDINARIA - DATA BASE 2024-2025 - SETOR MILHO E SOJA
DESCRIPTION:
URL:https://sindicato.stialimentacao.com.br/evento/edital-de-convocacao-de-assembleia-ordinaria-data-base-2024-2025-setor-milho-e-soja/
LOCATION:Subsede STIA Jacareí\, Rua Três de Abril\, 64 – Jd. Leonídia\, Jacareí\, SP\, 12327-100\, Brasil
CATEGORIES:Assembléia,Data Base,Editais,MILHO
ATTACH;FMTTYPE=image/jpeg:https://sindicato.stialimentacao.com.br/wp-content/uploads/2022/11/corn-kernel.jpg
END:VEVENT
BEGIN:VEVENT
DTSTART;TZID=UTC:20240823T090000
DTEND;TZID=UTC:20240823T103000
DTSTAMP:20260423T205050
CREATED:20240815T183248Z
LAST-MODIFIED:20240815T184001Z
UID:1881-1724403600-1724409000@sindicato.stialimentacao.com.br
SUMMARY:EDITAL DE CONVOCAÇÃO DE ASSEMBLEIA ORDINARIA - DATA BASE 2024-2025 - SETOR ÁGUAS MINERAIS
DESCRIPTION:
URL:https://sindicato.stialimentacao.com.br/evento/edital-de-convocacao-de-assembleia-ordinaria-data-base-2024-2025-setor-aguas-minerais/
LOCATION:Subsede STIA Jacareí\, Rua Três de Abril\, 64 – Jd. Leonídia\, Jacareí\, SP\, 12327-100\, Brasil
CATEGORIES:Assembléia,Bebidas,Data Base,Editais
ATTACH;FMTTYPE=image/jpeg:https://sindicato.stialimentacao.com.br/wp-content/uploads/2022/11/agua-mineral.jpg
END:VEVENT
BEGIN:VEVENT
DTSTART;TZID=UTC:20240822T110000
DTEND;TZID=UTC:20240822T130000
DTSTAMP:20260423T205050
CREATED:20240815T182929Z
LAST-MODIFIED:20240815T183057Z
UID:1879-1724324400-1724331600@sindicato.stialimentacao.com.br
SUMMARY:EDITAL DE CONVOCAÇÃO DE ASSEMBLEIA ORDINARIA - DATA BASE 2024-2025 - SETOR TORREFAÇÃO
DESCRIPTION:
URL:https://sindicato.stialimentacao.com.br/evento/edital-de-convocacao-de-assembleia-ordinaria-data-base-2024-2025-setor-torrefacao/
LOCATION:Subsede STIA Jacareí\, Rua Três de Abril\, 64 – Jd. Leonídia\, Jacareí\, SP\, 12327-100\, Brasil
CATEGORIES:Assembléia,Data Base,Editais,Torrefação e Moagem de Café
ATTACH;FMTTYPE=image/jpeg:https://sindicato.stialimentacao.com.br/wp-content/uploads/2022/11/cafe.jpg
END:VEVENT
BEGIN:VEVENT
DTSTART;TZID=UTC:20240820T103000
DTEND;TZID=UTC:20240820T130000
DTSTAMP:20260423T205050
CREATED:20240815T182709Z
LAST-MODIFIED:20240815T182709Z
UID:1876-1724149800-1724158800@sindicato.stialimentacao.com.br
SUMMARY:EDITAL DE CONVOCAÇÃO DE ASSEMBLEIA ORDINARIA - DATA BASE 2024-2025 - SETOR PESCA
DESCRIPTION:
URL:https://sindicato.stialimentacao.com.br/evento/edital-de-convocacao-de-assembleia-ordinaria-data-base-2024-2025-setor-pesca/
LOCATION:Subsede STIA Jacareí\, Rua Três de Abril\, 64 – Jd. Leonídia\, Jacareí\, SP\, 12327-100\, Brasil
CATEGORIES:Assembléia,Data Base,Editais,PESCA
ATTACH;FMTTYPE=image/jpeg:https://sindicato.stialimentacao.com.br/wp-content/uploads/2022/11/pesca.jpg
END:VEVENT
BEGIN:VEVENT
DTSTART;TZID=UTC:20240820T090000
DTEND;TZID=UTC:20240820T110000
DTSTAMP:20260423T205050
CREATED:20240815T182415Z
LAST-MODIFIED:20240815T182525Z
UID:1874-1724144400-1724151600@sindicato.stialimentacao.com.br
SUMMARY:EDITAL DE CONVOCAÇÃO DE ASSEMBLEIA ORDINARIA - DATA BASE 2024-2025 - SETOR LATICÍNIOS
DESCRIPTION:
URL:https://sindicato.stialimentacao.com.br/evento/edital-de-convocacao-de-assembleia-ordinaria-data-base-2024-2025-setores-variados/
LOCATION:STIA SJC\, Av Rui Barbosa\, 14\, São José dos Campos\, SP\, 12209000\, Brasil
CATEGORIES:Assembléia,Data Base,Editais,Laticínios
ATTACH;FMTTYPE=image/jpeg:https://sindicato.stialimentacao.com.br/wp-content/uploads/2022/11/leite.jpg
END:VEVENT
BEGIN:VEVENT
DTSTART;TZID=UTC:20240725T090000
DTEND;TZID=UTC:20240725T130000
DTSTAMP:20260423T205050
CREATED:20240717T173743Z
LAST-MODIFIED:20240717T173743Z
UID:1812-1721898000-1721912400@sindicato.stialimentacao.com.br
SUMMARY:EDITAL DE CONVOCAÇÃO DE ASSSEMBLEIA ORDINÁRIA - DATABASE 2024-2025 - ALIMENTAÇÃO ANIMAL (RAÇÃO)
DESCRIPTION:
URL:https://sindicato.stialimentacao.com.br/evento/edital-de-convocacao-de-asssembleia-ordinaria-database-2024-2025-alimentacao-animal-racao/
LOCATION:Subsede STIA Jacareí\, Rua Três de Abril\, 64 – Jd. Leonídia\, Jacareí\, SP\, 12327-100\, Brasil
CATEGORIES:Assembléia,Editais,Ração
ATTACH;FMTTYPE=image/jpeg:https://sindicato.stialimentacao.com.br/wp-content/uploads/2022/11/racao.jpg
END:VEVENT
BEGIN:VEVENT
DTSTART;VALUE=DATE:20240725
DTEND;VALUE=DATE:20240726
DTSTAMP:20260423T205050
CREATED:20240718T184338Z
LAST-MODIFIED:20240719T124842Z
UID:1822-1721865600-1721951999@sindicato.stialimentacao.com.br
SUMMARY:EDITAL DE CONVOCAÇÃO DE ASSEMBLEIA ORDINARIA MASTERFOODS BRASIL ALIMENTOS - PPR 2024-2025
DESCRIPTION:
URL:https://sindicato.stialimentacao.com.br/evento/edital-de-convocacao-de-assembleia-ordinaria-masterfoods-brasil-alimentos-ppr-2024-2025/
LOCATION:MARS – Masterfoods Brasil Alimentos LTDA\, Rodovia Presidente Dutra\, km 175\,4 - Bairro do Lambari -\, Guararema\, SP\, Brasil
CATEGORIES:Assembléia,Editais,PPR
ATTACH;FMTTYPE=image/jpeg:https://sindicato.stialimentacao.com.br/wp-content/uploads/2024/04/mars-brasil-amsterfoods-guararema.jpg
END:VEVENT
BEGIN:VEVENT
DTSTART;VALUE=DATE:20240723
DTEND;VALUE=DATE:20240724
DTSTAMP:20260423T205050
CREATED:20240717T174358Z
LAST-MODIFIED:20240717T174358Z
UID:1815-1721692800-1721779199@sindicato.stialimentacao.com.br
SUMMARY:EDITAL DE CONVOCAÇÃO DE ASSEMBLEIA ORDINÁRIA NA HEINEKEN - CAMPANHA SALARIAL DATABASE 2024-2025 E RENOVAÇÃO DE ESTADO DE GREVE
DESCRIPTION:
URL:https://sindicato.stialimentacao.com.br/evento/edital-de-convocacao-de-assembleia-ordinaria-na-heineken-campanha-salarial-database-2024-2025-e-renovacao-de-estado-de-greve/
LOCATION:Kaiser/Heineken\, Av Presidente Humberto de Alencar Castelo Branco\, 2911 - Rio Abaixo\, Jacareí\, SP\, Brasil
CATEGORIES:Assembléia,Editais
ATTACH;FMTTYPE=image/jpeg:https://sindicato.stialimentacao.com.br/wp-content/uploads/2023/07/banner-evento-e-post.jpg
END:VEVENT
BEGIN:VEVENT
DTSTART;VALUE=DATE:20240716
DTEND;VALUE=DATE:20240717
DTSTAMP:20260423T205050
CREATED:20240703T131222Z
LAST-MODIFIED:20240703T131222Z
UID:1796-1721088000-1721174399@sindicato.stialimentacao.com.br
SUMMARY:EDITAL DE CONVOCAÇÃO DE ASSEMBLEIA GERAL EXTRAORDINARIA - AMBEV
DESCRIPTION:
URL:https://sindicato.stialimentacao.com.br/evento/edital-de-convocacao-de-assembleia-geral-extraordinaria-ambev/
LOCATION:AMBEV – Unidade Jacareí\, Estrada Municipal Bernardino Chieffi\, 10.000 - Pagador Andrade Km12\, Jacareí\, São Paulo\, Brasil
CATEGORIES:Assembléia,Editais
ATTACH;FMTTYPE=image/jpeg:https://sindicato.stialimentacao.com.br/wp-content/uploads/2023/01/ambev.jpg
END:VEVENT
BEGIN:VEVENT
DTSTART;TZID=UTC:20240712T090000
DTEND;TZID=UTC:20240712T110000
DTSTAMP:20260423T205050
CREATED:20240709T001531Z
LAST-MODIFIED:20240709T012148Z
UID:1802-1720774800-1720782000@sindicato.stialimentacao.com.br
SUMMARY:EDITAL DE CONVOCAÇÃO DE ASSEMBLEIA ORDINÁRIA - SETOR SUCOS - DATA BASE 2024/2025
DESCRIPTION:
URL:https://sindicato.stialimentacao.com.br/evento/edital-de-convocacao-de-assembleia-ordinaria-setor-sucos-data-base-2024-2025/
LOCATION:Subsede STIA Jacareí\, Rua Três de Abril\, 64 – Jd. Leonídia\, Jacareí\, SP\, 12327-100\, Brasil
CATEGORIES:Bebidas,Data Base,Suco
ATTACH;FMTTYPE=image/jpeg:https://sindicato.stialimentacao.com.br/wp-content/uploads/2024/07/banner-evento-e-post.jpg
END:VEVENT
BEGIN:VEVENT
DTSTART;TZID=UTC:20240710T100000
DTEND;TZID=UTC:20240710T110000
DTSTAMP:20260423T205050
CREATED:20240701T212015Z
LAST-MODIFIED:20240701T212015Z
UID:1788-1720605600-1720609200@sindicato.stialimentacao.com.br
SUMMARY:Edital de Convocação de Assembleia Ordinária - BRF - Data-base 2024-2025
DESCRIPTION:
URL:https://sindicato.stialimentacao.com.br/evento/edital-de-convocacao-de-assembleia-ordinaria-brf-data-base-2024-2025/
LOCATION:BRF SA\, Rua Guaranésia\, 340\, São José dos Campos\, São Paulo\, Brasil
CATEGORIES:Data Base,Editais
ATTACH;FMTTYPE=image/jpeg:https://sindicato.stialimentacao.com.br/wp-content/uploads/2024/03/banner-evento-e-post.jpg
END:VEVENT
BEGIN:VEVENT
DTSTART;VALUE=DATE:20240704
DTEND;VALUE=DATE:20240705
DTSTAMP:20260423T205050
CREATED:20240625T135229Z
LAST-MODIFIED:20240625T135229Z
UID:1777-1720051200-1720137599@sindicato.stialimentacao.com.br
SUMMARY:EDITAL DE CONVOCAÇÃO DE ASSEMBLEIA ORDINÁRIA MASTERFOODS BRASIL ALIMENTOS LTDA - PPR 2024-2025
DESCRIPTION:
URL:https://sindicato.stialimentacao.com.br/evento/edital-de-convocacao-de-assembleia-ordinaria-masterfoods-brasil-alimentos-ltda-ppr-2024-2025/
LOCATION:MARS – Masterfoods Brasil Alimentos LTDA\, Rodovia Presidente Dutra\, km 175\,4 - Bairro do Lambari -\, Guararema\, SP\, Brasil
CATEGORIES:Assembléia,PPR
ATTACH;FMTTYPE=image/jpeg:https://sindicato.stialimentacao.com.br/wp-content/uploads/2024/04/mars-brasil-amsterfoods-guararema.jpg
END:VEVENT
BEGIN:VEVENT
DTSTART;TZID=UTC:20240625T110000
DTEND;TZID=UTC:20240625T130000
DTSTAMP:20260423T205050
CREATED:20240605T145823Z
LAST-MODIFIED:20240605T145823Z
UID:1756-1719313200-1719320400@sindicato.stialimentacao.com.br
SUMMARY:EDITAL DE CONVOCAÇÃO DE ASSEMBLEIA DE PRESTAÇÃO DE CONTAS ANO 2023
DESCRIPTION:2024.06.25 - EDITAL DE CONVOCAÇÃO DE ASSEMBLEIA DE PRESTAÇÃO DE CONTAS ANO 2023
URL:https://sindicato.stialimentacao.com.br/evento/edital-de-convocacao-de-assembleia-de-prestacao-de-contas-ano-2023/
LOCATION:STIA SJC\, Av Rui Barbosa\, 14\, São José dos Campos\, SP\, 12209000\, Brasil
CATEGORIES:Assembléia,PRESTAÇÃO DE CONTAS
ATTACH;FMTTYPE=image/jpeg:https://sindicato.stialimentacao.com.br/wp-content/uploads/2023/04/salario.jpg
END:VEVENT
BEGIN:VEVENT
DTSTART;TZID=UTC:20240619T100000
DTEND;TZID=UTC:20240619T130000
DTSTAMP:20260423T205050
CREATED:20240614T171549Z
LAST-MODIFIED:20240614T171820Z
UID:1769-1718791200-1718802000@sindicato.stialimentacao.com.br
SUMMARY:EDITAL DE CONVOCAÇÃO DE ASSEMBLEIA ORDINARIA SETOR DE DOCES E CONSERVAS - DATA BASE 2024-2025
DESCRIPTION:
URL:https://sindicato.stialimentacao.com.br/evento/edital-de-convocacao-de-assembleia-ordinaria-setor-de-doces-e-conservas-data-base-2024-2025/
LOCATION:Subsede STIA Jacareí\, Rua Três de Abril\, 64 – Jd. Leonídia\, Jacareí\, SP\, 12327-100\, Brasil
CATEGORIES:Data Base,Doces e Conservas,Editais
ATTACH;FMTTYPE=image/jpeg:https://sindicato.stialimentacao.com.br/wp-content/uploads/2023/06/banner-evento-e-post-7-1.jpg
END:VEVENT
BEGIN:VEVENT
DTSTART;TZID=UTC:20240619T073000
DTEND;TZID=UTC:20240619T100000
DTSTAMP:20260423T205050
CREATED:20240614T171426Z
LAST-MODIFIED:20240614T171735Z
UID:1767-1718782200-1718791200@sindicato.stialimentacao.com.br
SUMMARY:EDITAL DE CONVOCAÇÃO DE ASSEMBLEIA ORDINARIA SETOR DE DOCES E CONSERVAS - DATA BASE 2024-2025 [MCG SUPLEMENTOS]
DESCRIPTION:
URL:https://sindicato.stialimentacao.com.br/evento/edital-de-convocacao-de-assembleia-ordinaria-setor-de-doces-e-conservas-data-base-2024-2025-mcg-suplementos/
LOCATION:MCG Suplementos Alimentares Ltda\, Rua Caravelas\, 65 - Galpão 2 - Jardim Vale do Sol\, São José dos Campos\, São Paulo\, 12.238-170
CATEGORIES:Data Base,Doces e Conservas,Editais
ATTACH;FMTTYPE=image/jpeg:https://sindicato.stialimentacao.com.br/wp-content/uploads/2024/04/suplementos.jpg
END:VEVENT
BEGIN:VEVENT
DTSTART;VALUE=DATE:20240507
DTEND;VALUE=DATE:20240508
DTSTAMP:20260423T205050
CREATED:20240426T132315Z
LAST-MODIFIED:20240426T212332Z
UID:1716-1715040000-1715126399@sindicato.stialimentacao.com.br
SUMMARY:Edital de Convocação de Assembléia Ordinária JMACEDO - PPR 2024-2025 + ASSEMBLÉIA EXTRAORDINÁRIA
DESCRIPTION:
URL:https://sindicato.stialimentacao.com.br/evento/edital-de-convocacao-de-assembleia-ordinaria-jmacedo-ppr-2024-2025/
LOCATION:J MACEDO\, Estr. Petybon\, 3001 - Jardim Altos de Santana\, São José dos Campos\, SP\, 12214-031\, Brasil
CATEGORIES:Editais,Plurimo,PPR
ATTACH;FMTTYPE=image/webp:https://sindicato.stialimentacao.com.br/wp-content/uploads/2023/01/j-macedo-trabalhe-conosco-vagas-abertas.webp
END:VEVENT
BEGIN:VEVENT
DTSTART;VALUE=DATE:20240429
DTEND;VALUE=DATE:20240430
DTSTAMP:20260423T205050
CREATED:20240418T145909Z
LAST-MODIFIED:20240418T145957Z
UID:1704-1714348800-1714435199@sindicato.stialimentacao.com.br
SUMMARY:EDITAL DE CONVOCAÇÃO DE ASSEMBLEIA EXTRAORDINÁRIA DE TRABALHADORES DA AMBEV - JACAREI
DESCRIPTION:
URL:https://sindicato.stialimentacao.com.br/evento/edital-de-convocacao-de-assembleia-extraordinaria-de-trabalhadores-da-ambev-jacarei/
LOCATION:AMBEV – Unidade Jacareí\, Estrada Municipal Bernardino Chieffi\, 10.000 - Pagador Andrade Km12\, Jacareí\, São Paulo\, Brasil
CATEGORIES:Assembléia,Bebidas,Editais
ATTACH;FMTTYPE=image/jpeg:https://sindicato.stialimentacao.com.br/wp-content/uploads/2023/01/ambev.jpg
END:VEVENT
BEGIN:VEVENT
DTSTART;TZID=UTC:20240425T103000
DTEND;TZID=UTC:20240425T170000
DTSTAMP:20260423T205050
CREATED:20240418T142641Z
LAST-MODIFIED:20240418T142900Z
UID:1699-1714041000-1714064400@sindicato.stialimentacao.com.br
SUMMARY:EDITAL DE CONVOCAÇÃO DE ASSEMBLEIA ORDINÁRIA PPR - 2023-2024 - PRIMO IND E COMÉRCIO DE INGREDIENTES ALIMENTÍCIOS LTDA
DESCRIPTION:
URL:https://sindicato.stialimentacao.com.br/evento/edital-de-convocacao-de-assembleia-ordinaria-ppr-2023-2024-primo-ind-e-comercio-de-ingredientes-alimenticios-ltda/
LOCATION:PRIMO Indústria de Ingredientes Alimentícios LTDA\, Av Adhemar Pereira de Barros\, 601\, Jacareí\, SP\, 12328-300\, Brasil
CATEGORIES:Assembléia,Editais,Plurimo,PPR
ATTACH;FMTTYPE=image/jpeg:https://sindicato.stialimentacao.com.br/wp-content/uploads/2024/04/PRIMO-INDustria-de-ingredientes-alimenticios.jpg
END:VEVENT
BEGIN:VEVENT
DTSTART;VALUE=DATE:20240416
DTEND;VALUE=DATE:20240417
DTSTAMP:20260423T205050
CREATED:20240401T191621Z
LAST-MODIFIED:20240401T191812Z
UID:1666-1713225600-1713311999@sindicato.stialimentacao.com.br
SUMMARY:HEINEKEN - EDITAL DE CONVOCAÇÂO DE ASSEMBLEIA ORDINARIA - DATA BASE: CAMPANHA SALARIAL 2024-2025 E RENOVAÇAO DE ESTADO DE GREVE
DESCRIPTION:
URL:https://sindicato.stialimentacao.com.br/evento/heineken-edital-de-convocacao-de-assembleia-ordinaria-data-base-campanha-salarial-2024-2025-e-renovacao-de-estado-de-greve/
LOCATION:Kaiser/Heineken\, Av Presidente Humberto de Alencar Castelo Branco\, 2911 - Rio Abaixo\, Jacareí\, SP\, Brasil
CATEGORIES:Bebidas,Data Base
ATTACH;FMTTYPE=image/jpeg:https://sindicato.stialimentacao.com.br/wp-content/uploads/2023/07/banner-evento-e-post.jpg
END:VEVENT
BEGIN:VEVENT
DTSTART;TZID=UTC:20240411T073000
DTEND;TZID=UTC:20240411T100000
DTSTAMP:20260423T205050
CREATED:20240401T190615Z
LAST-MODIFIED:20240401T190615Z
UID:1660-1712820600-1712829600@sindicato.stialimentacao.com.br
SUMMARY:EDITAL DE CONVOCAÇÃO DE ASSEMBLEIA ORDINÁRIA MCG SUPLEMENTOS - DATA BASE 2024/2025
DESCRIPTION:
URL:https://sindicato.stialimentacao.com.br/evento/edital-de-convocacao-de-assembleia-ordinaria-mcg-suplementos-data-base-2024-2025/
LOCATION:SP
CATEGORIES:Data Base
ATTACH;FMTTYPE=image/jpeg:https://sindicato.stialimentacao.com.br/wp-content/uploads/2024/04/suplementos.jpg
END:VEVENT
BEGIN:VEVENT
DTSTART;TZID=UTC:20240409T090000
DTEND;TZID=UTC:20240409T120000
DTSTAMP:20260423T205050
CREATED:20240401T190010Z
LAST-MODIFIED:20240401T190047Z
UID:1658-1712653200-1712664000@sindicato.stialimentacao.com.br
SUMMARY:EDITAL DE CONVOCAÇÃO DE ASSEMBLEIA ORDINÁRIA DATA BASE 2024/2025 (SETORES: FRIO\, BEBIDAS\, DOCES E CONSERVAS\, SUCO E RAÇÃO ANIMAL)
DESCRIPTION:
URL:https://sindicato.stialimentacao.com.br/evento/edital-de-convocacao-de-assembleia-ordinaria-data-base-2024-2025-setores-frio-bebidas-doces-e-conservas-suco-e-racao-animal/
LOCATION:SP
CATEGORIES:Bebidas,Data Base,Doces e Conservas,Frios,Ração,Suco
ATTACH;FMTTYPE=image/webp:https://sindicato.stialimentacao.com.br/wp-content/uploads/2024/04/assembleia-de-trabalhadores-da-alimentacao-e1711998583803.webp
END:VEVENT
BEGIN:VEVENT
DTSTART;TZID=UTC:20240326T100000
DTEND;TZID=UTC:20240326T120000
DTSTAMP:20260423T205050
CREATED:20240319T132600Z
LAST-MODIFIED:20240321T120819Z
UID:1629-1711447200-1711454400@sindicato.stialimentacao.com.br
SUMMARY:EDITAL CONVOCAÇÃO DE ASSEMBLEIA ORDINÁRIA – BRF DATA-BASE SETOR 2024/2025
DESCRIPTION:
URL:https://sindicato.stialimentacao.com.br/evento/edital-convocacao-de-assembleia-ordinaria-brf-data-base-setor-2024-2025/
LOCATION:BRF SA\, Rua Guaranésia\, 340\, São José dos Campos\, São Paulo\, Brasil
CATEGORIES:Alimentos,Assembléia,CARNES,Data Base,Laticínios
ATTACH;FMTTYPE=image/jpeg:https://sindicato.stialimentacao.com.br/wp-content/uploads/2024/03/banner-evento-e-post.jpg
END:VEVENT
BEGIN:VEVENT
DTSTART;VALUE=DATE:20240308
DTEND;VALUE=DATE:20240309
DTSTAMP:20260423T205050
CREATED:20240304T171836Z
LAST-MODIFIED:20240306T145711Z
UID:1596-1709856000-1709942399@sindicato.stialimentacao.com.br
SUMMARY:Sindicato e a luta por Direitos das Mulheres [Sexta-feira 08/03/24]
DESCRIPTION:O Sindicato da Alimentação de SJC e Região irá promover evento comemorativo em razão do dia das Mulheres (8 de março). \nO evento contará com a participação de juristas e trabalhadoras que irão abordar os temas: \n– O direito das mulheres\n– A mulher no mercado de trabalho\n– A importância da participação das mulheres no sindicato e na política\n– Iniciativas de suporte às mulheres \nEntre as palestrantes estão confirmadas as presenças de: \n– Dra Mariane Lima Borges Brasil – Advogada\n– Dra Maria Carolina Jaccoud – Advogada\n– Dra Carolina Arantes Araujo Costa – Advogada\n– Sirlene Marciel – Dirigente sindical e Co-deputada da Bancada Feminista\n– Fabiana – Diretora do Centro Dandara de Promotoras Legais Populares\n– Mais convidadas à confirmar \nO evento terá início às 9h\, para credenciamento e café da manhã. \nAos pais e mães presentes no evento\, será disponibilizada área de lazer com piscina e cuidadores para crianças. \nHaverá ainda um espaço de debate e coffee break ao longo do cronograma. \nLocal:\nEspaço São Benedito – Av José Pereira de Andrade\, nº 1143 – Santa Maria – Jacareí/SP \nPara participar\, inscreva-se completando o formulário abaixo:
URL:https://sindicato.stialimentacao.com.br/evento/sindicato-e-a-luta-por-direitos-das-mulheres-sexta-feira-08-03-24/
LOCATION:Espaço São Benedito\, Av José Pereira de Andrade\, nº 1143 - Santa Maria\, Jacareí\, SP\, 12328-290\, Brasil
ATTACH;FMTTYPE=image/jpeg:https://sindicato.stialimentacao.com.br/wp-content/uploads/2024/03/palestra-dia-das-mulheres-8-de-marco.jpg
END:VEVENT
BEGIN:VEVENT
DTSTART;VALUE=DATE:20240305
DTEND;VALUE=DATE:20240306
DTSTAMP:20260423T205050
CREATED:20240222T140418Z
LAST-MODIFIED:20240222T140418Z
UID:1582-1709596800-1709683199@sindicato.stialimentacao.com.br
SUMMARY:EDITAL CONVOCAÇÃO DE ASSEMBLEIA ORDINÁRIA NA HEINEKEN - 05/MAR/24
DESCRIPTION:
URL:https://sindicato.stialimentacao.com.br/evento/edital-convocacao-de-assembleia-ordinaria-na-heineken-05-mar-24/
LOCATION:Kaiser/Heineken\, Av Presidente Humberto de Alencar Castelo Branco\, 2911 - Rio Abaixo\, Jacareí\, SP\, Brasil
CATEGORIES:Assembléia,Bebidas
ATTACH;FMTTYPE=image/jpeg:https://sindicato.stialimentacao.com.br/wp-content/uploads/2023/07/banner-evento-e-post.jpg
END:VEVENT
BEGIN:VEVENT
DTSTART;VALUE=DATE:20240228
DTEND;VALUE=DATE:20240229
DTSTAMP:20260423T205050
CREATED:20240219T122003Z
LAST-MODIFIED:20240219T122226Z
UID:1564-1709078400-1709164799@sindicato.stialimentacao.com.br
SUMMARY:Edital de Convocação de Assembléia Ordinária - PLR 2023-2024 e Data-Base 2024-2025 Setor - AMBEV
DESCRIPTION:
URL:https://sindicato.stialimentacao.com.br/evento/edital-de-convocacao-de-assembleia-ordinaria-plr-2023-2024-e-data-base-2024-2025-setor-ambev/
LOCATION:AMBEV – Unidade Jacareí\, Estrada Municipal Bernardino Chieffi\, 10.000 - Pagador Andrade Km12\, Jacareí\, São Paulo\, Brasil
CATEGORIES:Bebidas
ATTACH;FMTTYPE=image/jpeg:https://sindicato.stialimentacao.com.br/wp-content/uploads/2024/02/banner-evento-e-post-1.jpg
END:VEVENT
BEGIN:VEVENT
DTSTART;VALUE=DATE:20240206
DTEND;VALUE=DATE:20240207
DTSTAMP:20260423T205050
CREATED:20240126T191330Z
LAST-MODIFIED:20240126T191530Z
UID:1540-1707177600-1707263999@sindicato.stialimentacao.com.br
SUMMARY:EDITAL CONVOCAÇÃO DE ASSEMBLEIA ORDINÁRIA NA HEINEKEN
DESCRIPTION:
URL:https://sindicato.stialimentacao.com.br/evento/edital-convocacao-de-assembleia-ordinaria-na-heineken/
LOCATION:Kaiser/Heineken\, Av Presidente Humberto de Alencar Castelo Branco\, 2911 - Rio Abaixo\, Jacareí\, SP\, Brasil
CATEGORIES:Assembléia
ATTACH;FMTTYPE=image/jpeg:https://sindicato.stialimentacao.com.br/wp-content/uploads/2024/01/greve-1080x675-1794835480.jpg
END:VEVENT
BEGIN:VEVENT
DTSTART;VALUE=DATE:20231224
DTEND;VALUE=DATE:20240116
DTSTAMP:20260423T205050
CREATED:20231219T190535Z
LAST-MODIFIED:20231219T190535Z
UID:1522-1703376000-1705363199@sindicato.stialimentacao.com.br
SUMMARY:Recesso
DESCRIPTION:
URL:https://sindicato.stialimentacao.com.br/evento/recesso/
LOCATION:SP
CATEGORIES:STIA
ATTACH;FMTTYPE=image/png:https://sindicato.stialimentacao.com.br/wp-content/uploads/2023/12/pause-rest.png
END:VEVENT
BEGIN:VEVENT
DTSTART;VALUE=DATE:20231205
DTEND;VALUE=DATE:20231206
DTSTAMP:20260423T205050
CREATED:20231129T124937Z
LAST-MODIFIED:20231129T200600Z
UID:1495-1701734400-1701820799@sindicato.stialimentacao.com.br
SUMMARY:Plurimo (Local: JMACEDO) - Edital Assembleia para apresentação e votação proposta final para renovação CCT data-base 2023-2024)
DESCRIPTION:Plurimo - Edital Assembleia para apresentação e votação proposta final para renovação CCT data-base 2023-2024)
URL:https://sindicato.stialimentacao.com.br/evento/plurimo-local-jmacedo-edital-assembleia-para-apresentacao-e-votacao-proposta-final-para-renovacao-cct-data-base-2023-2024/
LOCATION:J MACEDO\, Estr. Petybon\, 3001 - Jardim Altos de Santana\, São José dos Campos\, SP\, 12214-031\, Brasil
CATEGORIES:Data Base,Plurimo
ATTACH;FMTTYPE=image/jpeg:https://sindicato.stialimentacao.com.br/wp-content/uploads/2022/11/plurimo.jpg
END:VEVENT
BEGIN:VEVENT
DTSTART;VALUE=DATE:20231204
DTEND;VALUE=DATE:20231205
DTSTAMP:20260423T205050
CREATED:20231129T124828Z
LAST-MODIFIED:20231129T200552Z
UID:1490-1701648000-1701734399@sindicato.stialimentacao.com.br
SUMMARY:Plurimo (Local: MARS) - Edital Assembleia para apresentação e votação proposta final para renovação CCT data-base 2023-2024)
DESCRIPTION:Plurimo - Edital Assembleia para apresentação e votação proposta final para renovação CCT data-base 2023-2024)
URL:https://sindicato.stialimentacao.com.br/evento/plurimo-local-mars-edital-assembleia-para-apresentacao-e-votacao-proposta-final-para-renovacao-cct-data-base-2023-2024/
LOCATION:MARS – Masterfoods Brasil Alimentos LTDA\, Rodovia Presidente Dutra\, km 175\,4 - Bairro do Lambari -\, Guararema\, SP\, Brasil
CATEGORIES:Data Base,Plurimo
ATTACH;FMTTYPE=image/jpeg:https://sindicato.stialimentacao.com.br/wp-content/uploads/2022/11/plurimo.jpg
END:VEVENT
END:VCALENDAR