BEGIN:VCALENDAR
VERSION:2.0
PRODID:-//STIA SJC - ECPv6.15.13.1//NONSGML v1.0//EN
CALSCALE:GREGORIAN
METHOD:PUBLISH
X-ORIGINAL-URL:https://sindicato.stialimentacao.com.br
X-WR-CALDESC:Eventos para STIA SJC
REFRESH-INTERVAL;VALUE=DURATION:PT1H
X-Robots-Tag:noindex
X-PUBLISHED-TTL:PT1H
BEGIN:VTIMEZONE
TZID:UTC
BEGIN:STANDARD
TZOFFSETFROM:+0000
TZOFFSETTO:+0000
TZNAME:UTC
DTSTART:20220101T000000
END:STANDARD
END:VTIMEZONE
BEGIN:VEVENT
DTSTART;VALUE=DATE:20240305
DTEND;VALUE=DATE:20240306
DTSTAMP:20260424T001507
CREATED:20240222T140418Z
LAST-MODIFIED:20240222T140418Z
UID:1582-1709596800-1709683199@sindicato.stialimentacao.com.br
SUMMARY:EDITAL CONVOCAÇÃO DE ASSEMBLEIA ORDINÁRIA NA HEINEKEN - 05/MAR/24
DESCRIPTION:
URL:https://sindicato.stialimentacao.com.br/evento/edital-convocacao-de-assembleia-ordinaria-na-heineken-05-mar-24/
LOCATION:Kaiser/Heineken\, Av Presidente Humberto de Alencar Castelo Branco\, 2911 - Rio Abaixo\, Jacareí\, SP\, Brasil
CATEGORIES:Assembléia,Bebidas
ATTACH;FMTTYPE=image/jpeg:https://sindicato.stialimentacao.com.br/wp-content/uploads/2023/07/banner-evento-e-post.jpg
END:VEVENT
BEGIN:VEVENT
DTSTART;VALUE=DATE:20240228
DTEND;VALUE=DATE:20240229
DTSTAMP:20260424T001507
CREATED:20240219T122003Z
LAST-MODIFIED:20240219T122226Z
UID:1564-1709078400-1709164799@sindicato.stialimentacao.com.br
SUMMARY:Edital de Convocação de Assembléia Ordinária - PLR 2023-2024 e Data-Base 2024-2025 Setor - AMBEV
DESCRIPTION:
URL:https://sindicato.stialimentacao.com.br/evento/edital-de-convocacao-de-assembleia-ordinaria-plr-2023-2024-e-data-base-2024-2025-setor-ambev/
LOCATION:AMBEV – Unidade Jacareí\, Estrada Municipal Bernardino Chieffi\, 10.000 - Pagador Andrade Km12\, Jacareí\, São Paulo\, Brasil
CATEGORIES:Bebidas
ATTACH;FMTTYPE=image/jpeg:https://sindicato.stialimentacao.com.br/wp-content/uploads/2024/02/banner-evento-e-post-1.jpg
END:VEVENT
BEGIN:VEVENT
DTSTART;VALUE=DATE:20240206
DTEND;VALUE=DATE:20240207
DTSTAMP:20260424T001507
CREATED:20240126T191330Z
LAST-MODIFIED:20240126T191530Z
UID:1540-1707177600-1707263999@sindicato.stialimentacao.com.br
SUMMARY:EDITAL CONVOCAÇÃO DE ASSEMBLEIA ORDINÁRIA NA HEINEKEN
DESCRIPTION:
URL:https://sindicato.stialimentacao.com.br/evento/edital-convocacao-de-assembleia-ordinaria-na-heineken/
LOCATION:Kaiser/Heineken\, Av Presidente Humberto de Alencar Castelo Branco\, 2911 - Rio Abaixo\, Jacareí\, SP\, Brasil
CATEGORIES:Assembléia
ATTACH;FMTTYPE=image/jpeg:https://sindicato.stialimentacao.com.br/wp-content/uploads/2024/01/greve-1080x675-1794835480.jpg
END:VEVENT
BEGIN:VEVENT
DTSTART;VALUE=DATE:20231224
DTEND;VALUE=DATE:20240116
DTSTAMP:20260424T001507
CREATED:20231219T190535Z
LAST-MODIFIED:20231219T190535Z
UID:1522-1703376000-1705363199@sindicato.stialimentacao.com.br
SUMMARY:Recesso
DESCRIPTION:
URL:https://sindicato.stialimentacao.com.br/evento/recesso/
LOCATION:SP
CATEGORIES:STIA
ATTACH;FMTTYPE=image/png:https://sindicato.stialimentacao.com.br/wp-content/uploads/2023/12/pause-rest.png
END:VEVENT
BEGIN:VEVENT
DTSTART;VALUE=DATE:20231205
DTEND;VALUE=DATE:20231206
DTSTAMP:20260424T001507
CREATED:20231129T124937Z
LAST-MODIFIED:20231129T200600Z
UID:1495-1701734400-1701820799@sindicato.stialimentacao.com.br
SUMMARY:Plurimo (Local: JMACEDO) - Edital Assembleia para apresentação e votação proposta final para renovação CCT data-base 2023-2024)
DESCRIPTION:Plurimo - Edital Assembleia para apresentação e votação proposta final para renovação CCT data-base 2023-2024)
URL:https://sindicato.stialimentacao.com.br/evento/plurimo-local-jmacedo-edital-assembleia-para-apresentacao-e-votacao-proposta-final-para-renovacao-cct-data-base-2023-2024/
LOCATION:J MACEDO\, Estr. Petybon\, 3001 - Jardim Altos de Santana\, São José dos Campos\, SP\, 12214-031\, Brasil
CATEGORIES:Data Base,Plurimo
ATTACH;FMTTYPE=image/jpeg:https://sindicato.stialimentacao.com.br/wp-content/uploads/2022/11/plurimo.jpg
END:VEVENT
BEGIN:VEVENT
DTSTART;VALUE=DATE:20231204
DTEND;VALUE=DATE:20231205
DTSTAMP:20260424T001507
CREATED:20231129T124828Z
LAST-MODIFIED:20231129T200552Z
UID:1490-1701648000-1701734399@sindicato.stialimentacao.com.br
SUMMARY:Plurimo (Local: MARS) - Edital Assembleia para apresentação e votação proposta final para renovação CCT data-base 2023-2024)
DESCRIPTION:Plurimo - Edital Assembleia para apresentação e votação proposta final para renovação CCT data-base 2023-2024)
URL:https://sindicato.stialimentacao.com.br/evento/plurimo-local-mars-edital-assembleia-para-apresentacao-e-votacao-proposta-final-para-renovacao-cct-data-base-2023-2024/
LOCATION:MARS – Masterfoods Brasil Alimentos LTDA\, Rodovia Presidente Dutra\, km 175\,4 - Bairro do Lambari -\, Guararema\, SP\, Brasil
CATEGORIES:Data Base,Plurimo
ATTACH;FMTTYPE=image/jpeg:https://sindicato.stialimentacao.com.br/wp-content/uploads/2022/11/plurimo.jpg
END:VEVENT
BEGIN:VEVENT
DTSTART;TZID=UTC:20231128T110000
DTEND;TZID=UTC:20231128T130000
DTSTAMP:20260424T001507
CREATED:20231114T210326Z
LAST-MODIFIED:20231114T210326Z
UID:1477-1701169200-1701176400@sindicato.stialimentacao.com.br
SUMMARY:EDITAL DE CONVOCAÇÃO DE ASSEMBLEIA DE PREVISÃO ORÇAMENTARIA 2024
DESCRIPTION:2023.11.13 - EDITAL DE CONVOCAÇÃO DE ASSEMBLEIA DE PREVISÃO ORÇAMENTARIA 2024
URL:https://sindicato.stialimentacao.com.br/evento/edital-de-convocacao-de-assembleia-de-previsao-orcamentaria-2024/
LOCATION:STIA SJC\, Av Rui Barbosa\, 14\, São José dos Campos\, SP\, 12209000\, Brasil
CATEGORIES:STIA
ATTACH;FMTTYPE=image/jpeg:https://sindicato.stialimentacao.com.br/wp-content/uploads/2023/11/orcamento-plan-budget.jpg
END:VEVENT
BEGIN:VEVENT
DTSTART;VALUE=DATE:20231114
DTEND;VALUE=DATE:20231115
DTSTAMP:20260424T001507
CREATED:20231109T211924Z
LAST-MODIFIED:20231113T161934Z
UID:1472-1699920000-1700006399@sindicato.stialimentacao.com.br
SUMMARY:EDITAL DE CONVOCAÇÃO DE ASSEMBLÉIA ORDINÁRIA DATA-BASE SETOR LUA NOVA - PANCO 2023-2024
DESCRIPTION:
URL:https://sindicato.stialimentacao.com.br/evento/edital-de-convocacao-de-aasembleia-ordinaria-data-base-setor-lua-nova-panco-2023-2024/
LOCATION:PANCO\, Estrada Tenente Coronel Oswaldo Cordeiro\, s/n\, Guararema\, SP\, 08900-000\, Brasil
CATEGORIES:Assembléia,PANCO
ATTACH;FMTTYPE=image/png:https://sindicato.stialimentacao.com.br/wp-content/uploads/2023/08/panco-linha-familia.png
END:VEVENT
BEGIN:VEVENT
DTSTART;TZID=UTC:20231110T153000
DTEND;TZID=UTC:20231110T180000
DTSTAMP:20260424T001507
CREATED:20231101T192535Z
LAST-MODIFIED:20231101T192915Z
UID:1459-1699630200-1699639200@sindicato.stialimentacao.com.br
SUMMARY:ASSEMBLEIA GERAL EXTRAORDINÁRIA
DESCRIPTION:ASSEMBLEIA GERAL EXTRAORDINÁRIA\nO Sindicato da alimentação convoca tosdos os trabalhadores sindicalizados à participarem da assembleia-geral que irá ocorrer no próximo dia 10/11 às 16h na subsede do STIA em Jacareí\, rua Três de Abril 64 centro.\nOnde buscando fortalecer ainda mais a categoria da Alimentação\, queremos debater dois temas muito importantes\, relacionados à Federação e Central sindical.\nAqueles que não são sócios poderão ficar sócios na hora e participar.\nNão deixem de comparecer\, ao final haverá uma confraternização para os presentes. \nJUSTE-SE À NOS\, FIQUE SÓCIO\, JUNTOS SOMOS MAIS FORTES. \nEdital desfiliação e filiação de Federação e desfiliação de Central sindical
URL:https://sindicato.stialimentacao.com.br/evento/assembleia-geral-extraordinaria/
LOCATION:Subsede STIA Jacareí\, Rua Três de Abril\, 64 – Jd. Leonídia\, Jacareí\, SP\, 12327-100\, Brasil
CATEGORIES:Assembléia,STIA
ATTACH;FMTTYPE=image/jpeg:https://sindicato.stialimentacao.com.br/wp-content/uploads/2023/11/IMAG0014-2210003487-e1698866897198.jpg
END:VEVENT
BEGIN:VEVENT
DTSTART;TZID=UTC:20231106T100000
DTEND;TZID=UTC:20231106T170000
DTSTAMP:20260424T001507
CREATED:20231101T185342Z
LAST-MODIFIED:20231101T185342Z
UID:1456-1699264800-1699290000@sindicato.stialimentacao.com.br
SUMMARY:Edital de Convocação de Assembleia Ordinária - Database 2023-2024 - Torrefação e moagem de café
DESCRIPTION:
URL:https://sindicato.stialimentacao.com.br/evento/edital-de-convocacao-de-assembleia-ordinaria-database-2023-2024-torrefacao-e-moagem-de-cafe/
LOCATION:Subsede STIA Jacareí\, Rua Três de Abril\, 64 – Jd. Leonídia\, Jacareí\, SP\, 12327-100\, Brasil
CATEGORIES:Data Base,Torrefação e Moagem de Café
ATTACH;FMTTYPE=image/jpeg:https://sindicato.stialimentacao.com.br/wp-content/uploads/2022/11/cafe.jpg
END:VEVENT
BEGIN:VEVENT
DTSTART;TZID=UTC:20231011T100000
DTEND;TZID=UTC:20231011T170000
DTSTAMP:20260424T001507
CREATED:20231007T125918Z
LAST-MODIFIED:20231007T125918Z
UID:1432-1697018400-1697043600@sindicato.stialimentacao.com.br
SUMMARY:Laticinios - Edital assembleia para deliberação sobre a renovação da CCT data-base 2023-2024
DESCRIPTION:Laticinios - Edital assembleia para deliberação sobre a renovação da CCT data-base 2023-2024
URL:https://sindicato.stialimentacao.com.br/evento/laticinios-edital-assembleia-para-deliberacao-sobre-a-renovacao-da-cct-data-base-2023-2024/
LOCATION:STIA SJC\, Av Rui Barbosa\, 14\, São José dos Campos\, SP\, 12209000\, Brasil
CATEGORIES:Data Base,Laticínios
ATTACH;FMTTYPE=image/jpeg:https://sindicato.stialimentacao.com.br/wp-content/uploads/2022/11/leite.jpg
END:VEVENT
BEGIN:VEVENT
DTSTART;TZID=UTC:20231006T093000
DTEND;TZID=UTC:20231006T110000
DTSTAMP:20260424T001507
CREATED:20230927T133610Z
LAST-MODIFIED:20230927T133610Z
UID:1389-1696584600-1696590000@sindicato.stialimentacao.com.br
SUMMARY:EDITAL DE CONVOCAÇÃO DE ASSEMBLEIA ORDINÁRIA DATA BASE 2023/2024 – SETOR MILHO\, SOJA E DERIVADOS
DESCRIPTION:
URL:https://sindicato.stialimentacao.com.br/evento/edital-de-convocacao-de-assembleia-ordinaria-data-base-2023-2024-setor-milho-soja-e-derivados/
LOCATION:Subsede STIA Jacareí\, Rua Três de Abril\, 64 – Jd. Leonídia\, Jacareí\, SP\, 12327-100\, Brasil
CATEGORIES:SOJA E DERIVADOS
ATTACH;FMTTYPE=image/jpeg:https://sindicato.stialimentacao.com.br/wp-content/uploads/2022/11/corn-kernel.jpg
END:VEVENT
BEGIN:VEVENT
DTSTART;TZID=UTC:20231005T103000
DTEND;TZID=UTC:20231005T120000
DTSTAMP:20260424T001507
CREATED:20230927T133057Z
LAST-MODIFIED:20230927T133057Z
UID:1390-1696501800-1696507200@sindicato.stialimentacao.com.br
SUMMARY:EDITAL DE CONVOCAÇÃO DE ASSEMBLEIA ORDINÁRIA DATA BASE 2023/2024 - SETOR PESCA
DESCRIPTION:
URL:https://sindicato.stialimentacao.com.br/evento/edital-de-convocacao-de-assembleia-ordinaria-data-base-2023-2024-setor-pesca-2/
LOCATION:Subsede STIA Jacareí\, Rua Três de Abril\, 64 – Jd. Leonídia\, Jacareí\, SP\, 12327-100\, Brasil
CATEGORIES:PESCA
ATTACH;FMTTYPE=image/jpeg:https://sindicato.stialimentacao.com.br/wp-content/uploads/2022/11/pesca.jpg
END:VEVENT
BEGIN:VEVENT
DTSTART;TZID=UTC:20230914T100000
DTEND;TZID=UTC:20230914T170000
DTSTAMP:20260424T001507
CREATED:20230906T153454Z
LAST-MODIFIED:20230907T161423Z
UID:1347-1694685600-1694710800@sindicato.stialimentacao.com.br
SUMMARY:EDITAL DE CONVOCAÇÃO DE ASSEMBLÉIA ORDINÁRIA DATA-BASE SETOR - PANIFICAÇÃO E CONFEITARIA 2023/2024
DESCRIPTION:
URL:https://sindicato.stialimentacao.com.br/evento/edital-de-convocacao-de-assembleia-ordinaria-data-base-setor-panificacao-e-confeitaria-2023-2024/
LOCATION:Subsede STIA Jacareí\, Rua Três de Abril\, 64 – Jd. Leonídia\, Jacareí\, SP\, 12327-100\, Brasil
CATEGORIES:Assembléia,Data Base,Votação
END:VEVENT
BEGIN:VEVENT
DTSTART;TZID=UTC:20230911T100000
DTEND;TZID=UTC:20230911T170000
DTSTAMP:20260424T001507
CREATED:20230907T161251Z
LAST-MODIFIED:20230907T161320Z
UID:1354-1694426400-1694451600@sindicato.stialimentacao.com.br
SUMMARY:EDITAL DE CONVOCAÇÃO DE ASSEMBLEIA ORDINÁRIA SETOR CARNES E DERIVADOS - DATA BASE 2023/2024
DESCRIPTION:
URL:https://sindicato.stialimentacao.com.br/evento/edital-de-convocacao-de-assembleia-ordinaria-setor-carnes-e-derivados-data-base-2023-2024/
LOCATION:Subsede STIA Jacareí\, Rua Três de Abril\, 64 – Jd. Leonídia\, Jacareí\, SP\, 12327-100\, Brasil
CATEGORIES:Assembléia,CARNES,Data Base
END:VEVENT
BEGIN:VEVENT
DTSTART;TZID=UTC:20230828T100000
DTEND;TZID=UTC:20230828T150000
DTSTAMP:20260424T001507
CREATED:20230816T115128Z
LAST-MODIFIED:20230816T115128Z
UID:1271-1693216800-1693234800@sindicato.stialimentacao.com.br
SUMMARY:EDITAL DE CONVOCAÇÃO DE ASSEMBLEIA ORDINÁRIA DATA BASE 2023/2024 - SETOR: Inorganizados
DESCRIPTION:
URL:https://sindicato.stialimentacao.com.br/evento/edital-de-convocacao-de-assembleia-ordinaria-data-base-2023-2024-setor-inorganizados/
LOCATION:Subsede STIA Jacareí\, Rua Três de Abril\, 64 – Jd. Leonídia\, Jacareí\, SP\, 12327-100\, Brasil
ATTACH;FMTTYPE=image/jpeg:https://sindicato.stialimentacao.com.br/wp-content/uploads/2023/03/ijaijiajiaj.jpeg
END:VEVENT
BEGIN:VEVENT
DTSTART;TZID=UTC:20230824T110000
DTEND;TZID=UTC:20230824T150000
DTSTAMP:20260424T001507
CREATED:20230816T115454Z
LAST-MODIFIED:20230816T115454Z
UID:1275-1692874800-1692889200@sindicato.stialimentacao.com.br
SUMMARY:EDITAL DE CONVOCAÇÃO DE ASSEMBLEIA ORDINÁRIA DATA BASE 2023/2024 - SETOR: Milho e Soja
DESCRIPTION:
URL:https://sindicato.stialimentacao.com.br/evento/edital-de-convocacao-de-assembleia-ordinaria-data-base-2023-2024-setor-milho-e-soja/
LOCATION:Subsede STIA Jacareí\, Rua Três de Abril\, 64 – Jd. Leonídia\, Jacareí\, SP\, 12327-100\, Brasil
CATEGORIES:Data Base
ATTACH;FMTTYPE=image/jpeg:https://sindicato.stialimentacao.com.br/wp-content/uploads/2022/11/corn-kernel.jpg
END:VEVENT
BEGIN:VEVENT
DTSTART;TZID=UTC:20230824T090000
DTEND;TZID=UTC:20230824T170000
DTSTAMP:20260424T001507
CREATED:20230816T114839Z
LAST-MODIFIED:20230816T114921Z
UID:1269-1692867600-1692896400@sindicato.stialimentacao.com.br
SUMMARY:EDITAL DE CONVOCAÇÃO DE ASSEMBLEIA ORDINÁRIA DATA BASE 2023/2024 - SETOR: Águas Minerais
DESCRIPTION:
URL:https://sindicato.stialimentacao.com.br/evento/edital-de-convocacao-de-assembleia-ordinaria-data-base-2023-2024-setor-aguas-minerais/
LOCATION:Subsede STIA Jacareí\, Rua Três de Abril\, 64 – Jd. Leonídia\, Jacareí\, SP\, 12327-100\, Brasil
ATTACH;FMTTYPE=image/jpeg:https://sindicato.stialimentacao.com.br/wp-content/uploads/2022/11/agua-mineral.jpg
END:VEVENT
BEGIN:VEVENT
DTSTART;VALUE=DATE:20230823
DTEND;VALUE=DATE:20230824
DTSTAMP:20260424T001507
CREATED:20230816T120238Z
LAST-MODIFIED:20230816T120555Z
UID:1281-1692748800-1692835199@sindicato.stialimentacao.com.br
SUMMARY:EDITAL DE CONVOCAÇÃO DE ASSEMBLEIA ORDINÁRIA DATA BASE 2023/2024 - SETOR: PLÚRIMO (Massas\, Cacau\, Chocolates\, Balas e Derivados\, Congelados e outros)
DESCRIPTION:
URL:https://sindicato.stialimentacao.com.br/evento/edital-de-convocacao-de-assembleia-ordinaria-data-base-2023-2024-setor-plurimo-massas-cacau-chocolates-balas-e-derivados-congelados-e-outros/
LOCATION:J MACEDO\, Estr. Petybon\, 3001 - Jardim Altos de Santana\, São José dos Campos\, SP\, 12214-031\, Brasil
CATEGORIES:Data Base
ATTACH;FMTTYPE=image/jpeg:https://sindicato.stialimentacao.com.br/wp-content/uploads/2022/11/plurimo.jpg
END:VEVENT
BEGIN:VEVENT
DTSTART;TZID=UTC:20230822T110000
DTEND;TZID=UTC:20230822T150000
DTSTAMP:20260424T001507
CREATED:20230816T115820Z
LAST-MODIFIED:20230816T115820Z
UID:1279-1692702000-1692716400@sindicato.stialimentacao.com.br
SUMMARY:EDITAL DE CONVOCAÇÃO DE ASSEMBLEIA ORDINÁRIA DATA BASE 2023/2024 - SETOR: Torrefação
DESCRIPTION:
URL:https://sindicato.stialimentacao.com.br/evento/edital-de-convocacao-de-assembleia-ordinaria-data-base-2023-2024-setor-torrefacao/
LOCATION:Subsede STIA Jacareí\, Rua Três de Abril\, 64 – Jd. Leonídia\, Jacareí\, SP\, 12327-100\, Brasil
CATEGORIES:Data Base
ATTACH;FMTTYPE=image/jpeg:https://sindicato.stialimentacao.com.br/wp-content/uploads/2022/11/cafe.jpg
END:VEVENT
BEGIN:VEVENT
DTSTART;TZID=UTC:20230822T090000
DTEND;TZID=UTC:20230822T150000
DTSTAMP:20260424T001507
CREATED:20230816T115656Z
LAST-MODIFIED:20230816T115656Z
UID:1277-1692694800-1692716400@sindicato.stialimentacao.com.br
SUMMARY:EDITAL DE CONVOCAÇÃO DE ASSEMBLEIA ORDINÁRIA DATA BASE 2023/2024 - SETOR: Pesca
DESCRIPTION:
URL:https://sindicato.stialimentacao.com.br/evento/edital-de-convocacao-de-assembleia-ordinaria-data-base-2023-2024-setor-pesca/
LOCATION:Subsede STIA Jacareí\, Rua Três de Abril\, 64 – Jd. Leonídia\, Jacareí\, SP\, 12327-100\, Brasil
CATEGORIES:Data Base
ATTACH;FMTTYPE=image/jpeg:https://sindicato.stialimentacao.com.br/wp-content/uploads/2022/11/pesca.jpg
END:VEVENT
BEGIN:VEVENT
DTSTART;VALUE=DATE:20230822
DTEND;VALUE=DATE:20230823
DTSTAMP:20260424T001507
CREATED:20230802T165512Z
LAST-MODIFIED:20230802T165843Z
UID:1240-1692662400-1692748799@sindicato.stialimentacao.com.br
SUMMARY:Panco - Edital abertura Campanha salarial Data-Base 2023-2024
DESCRIPTION:2023.08.22 - Panco - Edital abertura Campanha salarial Data-Base 2023-2024
URL:https://sindicato.stialimentacao.com.br/evento/panco-edital-abertura-campanha-salarial-data-base-2023-2024/
LOCATION:PANCO\, Estrada Tenente Coronel Oswaldo Cordeiro\, s/n\, Guararema\, SP\, 08900-000\, Brasil
ATTACH;FMTTYPE=image/png:https://sindicato.stialimentacao.com.br/wp-content/uploads/2023/08/panco-linha-familia.png
END:VEVENT
BEGIN:VEVENT
DTSTART;TZID=UTC:20230821T100000
DTEND;TZID=UTC:20230821T150000
DTSTAMP:20260424T001507
CREATED:20230816T115305Z
LAST-MODIFIED:20230816T115928Z
UID:1273-1692612000-1692630000@sindicato.stialimentacao.com.br
SUMMARY:EDITAL DE CONVOCAÇÃO DE ASSEMBLEIA ORDINÁRIA DATA BASE 2023/2024 - SETOR: Laticínios
DESCRIPTION:
URL:https://sindicato.stialimentacao.com.br/evento/edital-de-convocacao-de-assembleia-ordinaria-data-base-2023-2024-setor-laticinios/
LOCATION:Subsede STIA Jacareí\, Rua Três de Abril\, 64 – Jd. Leonídia\, Jacareí\, SP\, 12327-100\, Brasil
ATTACH;FMTTYPE=image/jpeg:https://sindicato.stialimentacao.com.br/wp-content/uploads/2022/11/leite.jpg
END:VEVENT
BEGIN:VEVENT
DTSTART;TZID=UTC:20230810T100000
DTEND;TZID=UTC:20230810T150000
DTSTAMP:20260424T001507
CREATED:20230731T164039Z
LAST-MODIFIED:20230731T164117Z
UID:1232-1691661600-1691679600@sindicato.stialimentacao.com.br
SUMMARY:EDITAL DE CONVOCAÇÃO DE ASSEMBLÉIA ORDINÁRIA BRF - DATA-BASE SETOR 2023/2024
DESCRIPTION:
URL:https://sindicato.stialimentacao.com.br/evento/edital-de-convocacao-de-assembleia-ordinaria-brf-data-base-setor-2023-2024/
LOCATION:SP
ATTACH;FMTTYPE=image/png:https://sindicato.stialimentacao.com.br/wp-content/uploads/2023/07/pack-de-produtos.png
END:VEVENT
BEGIN:VEVENT
DTSTART;TZID=UTC:20230731T100000
DTEND;TZID=UTC:20230731T120000
DTSTAMP:20260424T001507
CREATED:20230724T151910Z
LAST-MODIFIED:20230724T192244Z
UID:1139-1690797600-1690804800@sindicato.stialimentacao.com.br
SUMMARY:EDITAL DE CONVOCAÇÃO DE ASSEMBLEIA ORDINÁRIA SETOR SUCO – DATA BASE 2023/2024
DESCRIPTION:
URL:https://sindicato.stialimentacao.com.br/evento/edital-de-convocacao-de-assembleia-ordinaria-setor-suco-data-base-2023-2024/
LOCATION:Subsede STIA Jacareí\, Rua Três de Abril\, 64 – Jd. Leonídia\, Jacareí\, SP\, 12327-100\, Brasil
CATEGORIES:Assembléia
ATTACH;FMTTYPE=image/jpeg:https://sindicato.stialimentacao.com.br/wp-content/uploads/2023/06/banner-evento-e-post-6-1.jpg
END:VEVENT
BEGIN:VEVENT
DTSTART;TZID=UTC:20230728T110000
DTEND;TZID=UTC:20230728T140000
DTSTAMP:20260424T001507
CREATED:20230718T163842Z
LAST-MODIFIED:20230718T194959Z
UID:1113-1690542000-1690552800@sindicato.stialimentacao.com.br
SUMMARY:Assembleia Geral Extraordinária - Preenchimento de Cargo Vacante
DESCRIPTION:2023.07.18 - Edital assembleia geral extraordinária (Preenchimento cargo vacante)
URL:https://sindicato.stialimentacao.com.br/evento/assembleia-geral-extraordinaria-preenchimento-de-cargo-vacante/
LOCATION:Subsede STIA Jacareí\, Rua Três de Abril\, 64 – Jd. Leonídia\, Jacareí\, SP\, 12327-100\, Brasil
ATTACH;FMTTYPE=image/jpeg:https://sindicato.stialimentacao.com.br/wp-content/uploads/2023/07/WhatsApp-Image-2023-07-18-at-08.33.37-1.jpeg
END:VEVENT
BEGIN:VEVENT
DTSTART;VALUE=DATE:20230718
DTEND;VALUE=DATE:20230719
DTSTAMP:20260424T001507
CREATED:20230713T134630Z
LAST-MODIFIED:20230713T193401Z
UID:1069-1689638400-1689724799@sindicato.stialimentacao.com.br
SUMMARY:EDITAL DE CONVOCAÇÃO DE ASSEMBLÉIA ORDINÁRIA DATA-BASE SETOR - HEINEKEN 2023/2024
DESCRIPTION:
URL:https://sindicato.stialimentacao.com.br/evento/edital-de-convocacao-de-assembleia-ordinaria-data-base-setor-heineken-2023-2024-2/
LOCATION:Kaiser/Heineken\, Av Presidente Humberto de Alencar Castelo Branco\, 2911 - Rio Abaixo\, Jacareí\, SP\, Brasil
CATEGORIES:Bebidas
ATTACH;FMTTYPE=image/jpeg:https://sindicato.stialimentacao.com.br/wp-content/uploads/2023/07/banner-evento-e-post.jpg
END:VEVENT
BEGIN:VEVENT
DTSTART;TZID=UTC:20230708T110000
DTEND;TZID=UTC:20230708T150000
DTSTAMP:20260424T001507
CREATED:20230708T143820Z
LAST-MODIFIED:20230708T152728Z
UID:1033-1688814000-1688828400@sindicato.stialimentacao.com.br
SUMMARY:Velório e sepultamento do companheiro Joaquim Aristeu (Boca)
DESCRIPTION:É com imenso pesar que informamos aos companheiro e à categoria do falecimento companheiro Joaquim Aristeu\, o Boca. \n  \nA todos os familiares e amigos\, os nossos mais sinceros sentimentos. Sabemos como Joaquim era uma pessoa admirável e que com certeza deixará um grande vazio no coração de todos que tiveram a honra e o prazer de conhecê-lo. \n  \nO velório e sepultamento do companheiro acontecerá no Cemitério Memorial do Vale\, \nEndereço: Rodovia Geraldo Scavone\, n. 2480\, Jd. Califórnia\, Jacareí/SP. \nVelório – 11 às 15hs\nSepultamento – 15h \n 
URL:https://sindicato.stialimentacao.com.br/evento/velorio-e-sepultamento-do-companheiro-joaquim-aristeu-boca/
LOCATION:Memorial do Vale – Cemitério\, Crematório e Funerária\, Rod. Geraldo Scavone\, 2480 - Jardim California\, Jacareí\, SP\, 04534-015\, Brasil
ATTACH;FMTTYPE=image/jpeg:https://sindicato.stialimentacao.com.br/wp-content/uploads/2023/07/luto.jpg
END:VEVENT
BEGIN:VEVENT
DTSTART;VALUE=DATE:20230706
DTEND;VALUE=DATE:20230707
DTSTAMP:20260424T001507
CREATED:20230703T160037Z
LAST-MODIFIED:20230703T160037Z
UID:980-1688601600-1688687999@sindicato.stialimentacao.com.br
SUMMARY:Heineken – Assembleia Negociação Data-Base 2023-2024
DESCRIPTION:2023.06.29 - Heineken - Edital Assembleia Negociação Data-Base 2023-2024 (Debatermos o andamento das negociações)
URL:https://sindicato.stialimentacao.com.br/evento/heineken-assembleia-negociacao-data-base-2023-2024/
LOCATION:Kaiser/Heineken\, Av Presidente Humberto de Alencar Castelo Branco\, 2911 - Rio Abaixo\, Jacareí\, SP\, Brasil
ATTACH;FMTTYPE=image/jpeg:https://sindicato.stialimentacao.com.br/wp-content/uploads/2023/04/Design-sem-nome-1-1.jpg
END:VEVENT
BEGIN:VEVENT
DTSTART;TZID=UTC:20230630T110000
DTEND;TZID=UTC:20230630T140000
DTSTAMP:20260424T001507
CREATED:20230606T134243Z
LAST-MODIFIED:20230615T120451Z
UID:821-1688122800-1688133600@sindicato.stialimentacao.com.br
SUMMARY:EDITAL DE CONVOCAÇÃO DE ASSEMBLEIA PRESTAÇÃO DE CONTAS EXERCÍCIO 2022
DESCRIPTION:
URL:https://sindicato.stialimentacao.com.br/evento/edital-de-convocacao-de-assembleia-prestacao-de-contas-exercicio-2022/
LOCATION:STIA SJC\, Av Rui Barbosa\, 14\, São José dos Campos\, SP\, 12209000\, Brasil
CATEGORIES:Alimentos,PRESTAÇÃO DE CONTAS
ATTACH;FMTTYPE=image/jpeg:https://sindicato.stialimentacao.com.br/wp-content/uploads/2023/06/banner-evento-e-post-1-1.jpg
END:VEVENT
END:VCALENDAR